BEGIN:VCALENDAR
VERSION:2.0
PRODID:-//Penrith Anglican College - ECPv4.6.22.1//NONSGML v1.0//EN
CALSCALE:GREGORIAN
METHOD:PUBLISH
X-WR-CALNAME:Penrith Anglican College
X-ORIGINAL-URL:https://www.penrith.nsw.edu.au
X-WR-CALDESC:Events for Penrith Anglican College
BEGIN:VEVENT
DTSTART;TZID=UTC+10:20200328T110000
DTEND;TZID=UTC+10:20200328T160000
DTSTAMP:20210227T203758
CREATED:20200130T054919Z
LAST-MODIFIED:20200316T014640Z
UID:3962-1585393200-1585411200@www.penrith.nsw.edu.au
SUMMARY:Postponed - 2020 Fun Fair
DESCRIPTION:We regret to advise that the Penrith Anglican College Fun Fair planned for Saturday 28 March has been postponed. \nWe have made this difficult decision in consultation with the College\, in the interests of health and safety of our community due to the risk and ongoing uncertainty associated with the COVID-19 virus and taking into account the large number of people who would be present at the College for the Fair. \nWe are disappointed the Fair won’t go ahead as planned however the care of students and community is always our priority. \nAll pre-booked ride tickets will be refunded through Trybooking\, and contact will be made with sponsors\, food truck vendors and stallholders directly to arrange refunds. \nStay tuned for a new date to be confirmed. \n
URL:https://www.penrith.nsw.edu.au/event/2020-fun-fair/
LOCATION:Penrith Anglican College\, 338-356 Wentworth Rd\, Orchard Hills\, NSW\, 2748\, Australia
END:VEVENT
END:VCALENDAR