BEGIN:VCALENDAR
VERSION:2.0
PRODID:-//Penrith Anglican College - ECPv4.6.22.1//NONSGML v1.0//EN
CALSCALE:GREGORIAN
METHOD:PUBLISH
X-WR-CALNAME:Penrith Anglican College
X-ORIGINAL-URL:https://www.penrith.nsw.edu.au
X-WR-CALDESC:Events for Penrith Anglican College
BEGIN:VEVENT
DTSTART;TZID=UTC+10:20200627T090000
DTEND;TZID=UTC+10:20200627T120000
DTSTAMP:20210203T031922
CREATED:20200617T064742Z
LAST-MODIFIED:20200617T064752Z
UID:4232-1593248400-1593259200@www.penrith.nsw.edu.au
SUMMARY:College Tour
DESCRIPTION:\n\nCollege Tour\n\n\n\nWith COVID-19 restrictions gradually being lifted\, we are excited to invite you to join us on a small group personal tour of our expansive campus and modern facilities. \nSaturday 27 June 2020\n9:00am - 12:00pm\nRegistration essential to ensure compliance with COVID-19 safety guidelines.\nBook your place here or contact our Registrar at registrar@penrith.nsw.edu.au or on 02 4736 8100.\nOur Registrar will then contact you to arrange an appointment time for your tour. \n
URL:https://www.penrith.nsw.edu.au/event/4232/
LOCATION:Penrith Anglican College\, 338-356 Wentworth Rd\, Orchard Hills\, NSW\, 2748\, Australia
ATTACH;FMTTYPE=image/jpeg:https://pronto-core-cdn.prontomarketing.com/2/wp-content/uploads/sites/2302/2020/06/13062019_PENRITH_ANGLICAN-COLLEGE-0085.jpg
END:VEVENT
END:VCALENDAR