BEGIN:VCALENDAR
VERSION:2.0
PRODID:-//Penrith Anglican College - ECPv4.6.22.1//NONSGML v1.0//EN
CALSCALE:GREGORIAN
METHOD:PUBLISH
X-WR-CALNAME:Penrith Anglican College
X-ORIGINAL-URL:https://www.penrith.nsw.edu.au
X-WR-CALDESC:Events for Penrith Anglican College
BEGIN:VEVENT
DTSTART;TZID=UTC+10:20200822T103000
DTEND;TZID=UTC+10:20200822T123000
DTSTAMP:20210228T071517
CREATED:20200807T010043Z
LAST-MODIFIED:20200818T232932Z
UID:4281-1598092200-1598099400@www.penrith.nsw.edu.au
SUMMARY:CANCELLED - KINDERGARTEN OPEN MORNING & TOUR
DESCRIPTION:CANCELLED\nIn line with the new NSW Health COVID guidelines for schools that come into place from Wednesday 19 August\, we have unfortunately had to cancel our Kindergarten Open Morning. \nIf you are interested in Kindergarten 2021 please contact our Registrar at registrar@penrith.nsw.edu or call on 4736 8100. \n
URL:https://www.penrith.nsw.edu.au/event/kindergarten-open-morning-tour/
LOCATION:Penrith Anglican College\, 338-356 Wentworth Rd\, Orchard Hills\, NSW\, 2748\, Australia
END:VEVENT
END:VCALENDAR