BEGIN:VCALENDAR
VERSION:2.0
PRODID:-//Penrith Anglican College - ECPv4.6.22.1//NONSGML v1.0//EN
CALSCALE:GREGORIAN
METHOD:PUBLISH
X-WR-CALNAME:Penrith Anglican College
X-ORIGINAL-URL:https://www.penrith.nsw.edu.au
X-WR-CALDESC:Events for Penrith Anglican College
BEGIN:VEVENT
DTSTART;TZID=UTC+10:20200319T090000
DTEND;TZID=UTC+10:20200319T101500
DTSTAMP:20210228T072559
CREATED:20200130T051446Z
LAST-MODIFIED:20200316T014540Z
UID:3956-1584608400-1584612900@www.penrith.nsw.edu.au
SUMMARY:Postponed - Pre-K and Kindergarten 2021 Open Morning
DESCRIPTION:In line with current advice from the relevant authorities regarding COVID-19 and to ensure the safety of our community\, we are postponing the Pre-K and Kindergarten Open Morning on Thursday 19 March. \nThis has been a difficult decision however the health and wellbeing of our community and those who visit us is always our first priority.  We apologise for any disappointment and inconvenience that this may cause. \nAt this point in time we have a Pre-K 2021 Information Afternoon scheduled for Tuesday 26 May from 4pm to 6pm. We warmly invite you to attend. \nIf you have any concerns or questions in regards to the enrolment process please do not hesitate to contact our Registrar Mrs Hazel Salmon at h.salmon@pac.nsw.edu.au or phone 4736 8100. \n
URL:https://www.penrith.nsw.edu.au/event/pre-k-and-kindergarten-2021-open-morning/
LOCATION:Penrith Anglican College\, 338-356 Wentworth Rd\, Orchard Hills\, NSW\, 2748\, Australia
END:VEVENT
END:VCALENDAR