BEGIN:VCALENDAR
VERSION:2.0
PRODID:-//Penrith Anglican College - ECPv4.6.22.1//NONSGML v1.0//EN
CALSCALE:GREGORIAN
METHOD:PUBLISH
X-WR-CALNAME:Penrith Anglican College
X-ORIGINAL-URL:https://www.penrith.nsw.edu.au
X-WR-CALDESC:Events for Penrith Anglican College
BEGIN:VEVENT
DTSTART;TZID=UTC+10:20201124T160000
DTEND;TZID=UTC+10:20201124T183000
DTSTAMP:20210228T071547
CREATED:20201029T043954Z
LAST-MODIFIED:20201029T043954Z
UID:4441-1606233600-1606242600@www.penrith.nsw.edu.au
SUMMARY:Twilight Tours
DESCRIPTION:Discover what a Penrith Anglican College education looks like on a small group tour. See our expansive campus and facilities and learn about the opportunities available to all students at the College. \nRegistrations are essential to ensure compliance with NSW Health COVID-19 safety guidelines.\nBook your tour here or contact our Registrar at registrar@penrith.nsw.edu.au or on 02 4736 8100. \n
URL:https://www.penrith.nsw.edu.au/event/twilight-tours-3/
END:VEVENT
END:VCALENDAR