BEGIN:VCALENDAR
VERSION:2.0
PRODID:-//Penrith Anglican College - ECPv4.6.22.1//NONSGML v1.0//EN
CALSCALE:GREGORIAN
METHOD:PUBLISH
X-WR-CALNAME:Penrith Anglican College
X-ORIGINAL-URL:https://www.penrith.nsw.edu.au
X-WR-CALDESC:Events for Penrith Anglican College
BEGIN:VEVENT
DTSTART;TZID=UTC+10:20200407T090000
DTEND;TZID=UTC+10:20200407T153000
DTSTAMP:20210210T084045
CREATED:20200207T013609Z
LAST-MODIFIED:20200316T044049Z
UID:3972-1586250000-1586273400@www.penrith.nsw.edu.au
SUMMARY:Postponed - Year 7 2021 Taster Day
DESCRIPTION:In line with current advice from the relevant authorities regarding COVID-19 and to ensure the safety of our community\, we are postponing the Year 7 Taster Day planned for Tuesday 7 April 2020. \nThis has been a difficult decision however the health and wellbeing of our community and those who visit us is always our first priority.  We apologise for any disappointment and inconvenience that this may cause. \nWe will seek to reschedule the Year 7 Taster Day once we have greater clarity on the situation moving forward. \nIf you have any concerns or questions in regards to the enrolment process please do not hesitate to contact our Registrar Mrs Hazel Salmon at h.salmon@pac.nsw.edu.au or phone 4736 8100. \n  \n
URL:https://www.penrith.nsw.edu.au/event/year-7-2021-taster-day/
END:VEVENT
END:VCALENDAR